BEGIN:VCALENDAR
VERSION:2.0
PRODID:-//eventon.com NONSGML v1.0//EN
CALSCALE:GREGORIAN
METHOD:PUBLISH
BEGIN:VEVENT
UID:69eb413395476
DTSTAMP:20260424T100851Z
DTSTART:20220406
DTEND:20220407
LOCATION:
SUMMARY:Full Food Menu
DESCRIPTION:Full Food Menu\nhttps://clubrougebeaverton.com/events/full-food
 -menu/
URL:https://clubrougebeaverton.com/events/full-food-menu/
END:VEVENT
END:VCALENDAR