BEGIN:VCALENDAR
VERSION:2.0
PRODID:-//eventon.com NONSGML v1.0//EN
CALSCALE:GREGORIAN
METHOD:PUBLISH
BEGIN:VEVENT
UID:69e5ea2c5d2ac
DTSTAMP:20260420T085612Z
DTSTART:20260415
DTEND:20260416
LOCATION:
SUMMARY:Couples Night Wednesdays
DESCRIPTION:Couples Night Wednesdays\nhttps://clubrougebeaverton.com/events
 /couples-night-wednesdays/var/ri-142.l-L1
URL:https://clubrougebeaverton.com/events/couples-night-wednesdays/var/ri-142.l-L1
END:VEVENT
END:VCALENDAR