BEGIN:VCALENDAR
VERSION:2.0
PRODID:-//eventon.com NONSGML v1.0//EN
CALSCALE:GREGORIAN
METHOD:PUBLISH
BEGIN:VEVENT
UID:69e9f3b9b08db
DTSTAMP:20260423T102601Z
DTSTART:20260805
DTEND:20260806
LOCATION:
SUMMARY:Couples Night Wednesdays
DESCRIPTION:Couples Night Wednesdays\nhttps://clubrougebeaverton.com/events
 /couples-night-wednesdays/var/ri-158.l-L1
URL:https://clubrougebeaverton.com/events/couples-night-wednesdays/var/ri-158.l-L1
END:VEVENT
END:VCALENDAR