BEGIN:VCALENDAR
VERSION:2.0
PRODID:-//eventon.com NONSGML v1.0//EN
CALSCALE:GREGORIAN
METHOD:PUBLISH
BEGIN:VEVENT
UID:69e9ee9ea9561
DTSTAMP:20260423T100414Z
DTSTART:20260812
DTEND:20260813
LOCATION:
SUMMARY:Couples Night Wednesdays
DESCRIPTION:Couples Night Wednesdays\nhttps://clubrougebeaverton.com/events
 /couples-night-wednesdays/var/ri-159.l-L1
URL:https://clubrougebeaverton.com/events/couples-night-wednesdays/var/ri-159.l-L1
END:VEVENT
END:VCALENDAR