BEGIN:VCALENDAR
VERSION:2.0
PRODID:-//eventon.com NONSGML v1.0//EN
CALSCALE:GREGORIAN
METHOD:PUBLISH
BEGIN:VEVENT
UID:69e9f03472f5e
DTSTAMP:20260423T101100Z
DTSTART:20230101T060000Z
DTEND:20230101T090000Z
LOCATION:
SUMMARY:New Year's Eve Party 2023
DESCRIPTION:Champagne Toast at Midnight\nhttps://clubrougebeaverton.com/eve
 nts/new-years-eve-party-2023-2/
URL:https://clubrougebeaverton.com/events/new-years-eve-party-2023-2/
END:VEVENT
END:VCALENDAR