BEGIN:VCALENDAR
VERSION:2.0
PRODID:-//eventon.com NONSGML v1.0//EN
CALSCALE:GREGORIAN
METHOD:PUBLISH
BEGIN:VEVENT
UID:69e69f2a8d520
DTSTAMP:20260420T214826Z
DTSTART:20241102T040000Z
DTEND:20241102T090000Z
LOCATION:
SUMMARY:Heroes vs Villains!
DESCRIPTION:Friday Nov 1st. Costume Contest\nhttps://clubrougebeaverton.com
 /events/heroes-vs-villains-beaverton/
URL:https://clubrougebeaverton.com/events/heroes-vs-villains-beaverton/
END:VEVENT
END:VCALENDAR